Package: coGPS Version: 1.55.0 Command: /home/biocbuild/bbs-3.23-bioc/R/bin/R CMD INSTALL coGPS StartedAt: 2025-11-23 15:03:43 -0500 (Sun, 23 Nov 2025) EndedAt: 2025-11-23 15:03:53 -0500 (Sun, 23 Nov 2025) EllapsedTime: 10.7 seconds RetCode: 0 Status: OK