Package: coGPS Version: 1.55.0 Command: /home/biocbuild/bbs-3.23-bioc/R/bin/R CMD build --keep-empty-dirs --no-resave-data coGPS StartedAt: 2025-11-23 16:56:27 -0500 (Sun, 23 Nov 2025) EndedAt: 2025-11-23 16:56:37 -0500 (Sun, 23 Nov 2025) EllapsedTime: 10.0 seconds RetCode: 0 Status: OK PackageFile: coGPS_1.55.0.tar.gz PackageFileSize: 1.762 MiB