Package: coGPS Version: 1.55.0 Command: /Library/Frameworks/R.framework/Resources/bin/R CMD build --keep-empty-dirs --no-resave-data coGPS StartedAt: 2025-11-14 15:57:35 -0500 (Fri, 14 Nov 2025) EndedAt: 2025-11-14 15:57:40 -0500 (Fri, 14 Nov 2025) EllapsedTime: 5.1 seconds RetCode: 0 Status: OK PackageFile: coGPS_1.55.0.tar.gz PackageFileSize: 1.762 MiB