Package: coGPS Version: 1.55.0 Command: rm -rf coGPS.buildbin-libdir && mkdir coGPS.buildbin-libdir && /Users/biocbuild/BBS/utils/build-universal.sh coGPS_1.55.0.tar.gz /Library/Frameworks/R.framework/Resources/bin/R coGPS.buildbin-libdir StartedAt: 2025-11-14 23:27:43 -0500 (Fri, 14 Nov 2025) EndedAt: 2025-11-14 23:27:45 -0500 (Fri, 14 Nov 2025) EllapsedTime: 2.0 seconds RetCode: 0 Status: OK PackageFile: coGPS_1.55.0.tgz PackageFileSize: 1.789 MiB