Package: cmapR Version: 1.23.0 Command: /home/biocbuild/bbs-3.23-bioc/R/bin/R CMD INSTALL cmapR StartedAt: 2025-11-11 15:24:58 -0500 (Tue, 11 Nov 2025) EndedAt: 2025-11-11 15:25:22 -0500 (Tue, 11 Nov 2025) EllapsedTime: 23.5 seconds RetCode: 0 Status: OK