Package: cmapR Version: 1.23.0 Command: /home/biocbuild/bbs-3.23-bioc/R/bin/R CMD build --keep-empty-dirs --no-resave-data cmapR StartedAt: 2025-11-13 16:51:37 -0500 (Thu, 13 Nov 2025) EndedAt: 2025-11-13 16:52:28 -0500 (Thu, 13 Nov 2025) EllapsedTime: 51.0 seconds RetCode: 0 Status: OK PackageFile: cmapR_1.23.0.tar.gz PackageFileSize: 3.817 MiB