Package: cmapR Version: 1.23.0 Command: /Library/Frameworks/R.framework/Resources/bin/R CMD INSTALL cmapR StartedAt: 2025-11-12 15:25:54 -0500 (Wed, 12 Nov 2025) EndedAt: 2025-11-12 15:25:54 -0500 (Wed, 12 Nov 2025) EllapsedTime: 0.2 seconds RetCode: 1 Status: ERROR