Package: cmapR Version: 1.23.0 Maintainer: Ted Natoli MaintainerEmail: ted.e.natoli at gmail.com git_url: https://git.bioconductor.org/packages/cmapR git_branch: devel git_last_commit: b3d9762 git_last_commit_date: 2025-10-29 10:57:41 -0500 (Wed, 29 Oct 2025)