Package: clustifyr Version: 1.23.0 Command: /Library/Frameworks/R.framework/Resources/bin/R CMD INSTALL clustifyr StartedAt: 2025-11-12 15:25:06 -0500 (Wed, 12 Nov 2025) EndedAt: 2025-11-12 15:25:19 -0500 (Wed, 12 Nov 2025) EllapsedTime: 12.8 seconds RetCode: 0 Status: OK