Package: clustifyr Version: 1.23.0 Command: /Library/Frameworks/R.framework/Resources/bin/R CMD build --keep-empty-dirs --no-resave-data clustifyr StartedAt: 2025-11-13 15:58:53 -0500 (Thu, 13 Nov 2025) EndedAt: 2025-11-13 15:59:16 -0500 (Thu, 13 Nov 2025) EllapsedTime: 23.3 seconds RetCode: 0 Status: OK PackageFile: clustifyr_1.23.0.tar.gz PackageFileSize: 3.235 MiB