Package: clusterStab Version: 1.83.0 Command: /Library/Frameworks/R.framework/Resources/bin/R CMD INSTALL clusterStab StartedAt: 2025-11-13 15:07:04 -0500 (Thu, 13 Nov 2025) EndedAt: 2025-11-13 15:07:07 -0500 (Thu, 13 Nov 2025) EllapsedTime: 2.9 seconds RetCode: 0 Status: OK