Package: clusterStab Version: 1.83.0 Command: /Library/Frameworks/R.framework/Resources/bin/R CMD build --keep-empty-dirs --no-resave-data clusterStab StartedAt: 2025-11-12 16:00:30 -0500 (Wed, 12 Nov 2025) EndedAt: 2025-11-12 16:00:36 -0500 (Wed, 12 Nov 2025) EllapsedTime: 6.1 seconds RetCode: 0 Status: OK PackageFile: clusterStab_1.83.0.tar.gz PackageFileSize: 185.4 KiB