Package: clusterStab Version: 1.83.0 Maintainer: James W. MacDonald MaintainerEmail: jmacdon at u.washington.edu git_url: https://git.bioconductor.org/packages/clusterStab git_branch: devel git_last_commit: bf26eed git_last_commit_date: 2025-10-29 09:56:45 -0500 (Wed, 29 Oct 2025)