Package: clusterSeq Version: 1.35.0 Command: /Library/Frameworks/R.framework/Resources/bin/R CMD check --install=check:clusterSeq.install-out.txt --library=/Library/Frameworks/R.framework/Resources/library --no-vignettes --timings clusterSeq_1.35.0.tar.gz StartedAt: 2025-11-14 19:04:55 -0500 (Fri, 14 Nov 2025) EndedAt: 2025-11-14 19:06:21 -0500 (Fri, 14 Nov 2025) EllapsedTime: 86.1 seconds RetCode: 0 Status: OK CheckDir: clusterSeq.Rcheck Warnings: 0