Package: clusterSeq Version: 1.35.0 Command: /Library/Frameworks/R.framework/Resources/bin/R CMD build --keep-empty-dirs --no-resave-data clusterSeq StartedAt: 2025-11-13 15:58:46 -0500 (Thu, 13 Nov 2025) EndedAt: 2025-11-13 15:59:08 -0500 (Thu, 13 Nov 2025) EllapsedTime: 21.3 seconds RetCode: 0 Status: OK PackageFile: clusterSeq_1.35.0.tar.gz PackageFileSize: 1.009 MiB