Package: clusterProfiler Version: 4.19.1 Command: /home/biocbuild/bbs-3.23-bioc/R/bin/R CMD INSTALL clusterProfiler StartedAt: 2025-11-14 15:47:31 -0500 (Fri, 14 Nov 2025) EndedAt: 2025-11-14 15:47:56 -0500 (Fri, 14 Nov 2025) EllapsedTime: 24.7 seconds RetCode: 0 Status: OK