Package: clusterProfiler Version: 4.19.1 Command: /home/biocbuild/bbs-3.23-bioc/R/bin/R CMD check --install=check:clusterProfiler.install-out.txt --library=/home/biocbuild/bbs-3.23-bioc/R/site-library --timings clusterProfiler_4.19.1.tar.gz StartedAt: 2025-11-14 22:06:45 -0500 (Fri, 14 Nov 2025) EndedAt: 2025-11-14 22:10:23 -0500 (Fri, 14 Nov 2025) EllapsedTime: 218.2 seconds RetCode: 0 Status: OK CheckDir: clusterProfiler.Rcheck Warnings: 0