Package: clusterProfiler Version: 4.19.1 Command: /Library/Frameworks/R.framework/Resources/bin/R CMD check --install=check:clusterProfiler.install-out.txt --library=/Library/Frameworks/R.framework/Resources/library --no-vignettes --timings clusterProfiler_4.19.1.tar.gz StartedAt: 2025-11-14 19:04:46 -0500 (Fri, 14 Nov 2025) EndedAt: 2025-11-14 19:06:38 -0500 (Fri, 14 Nov 2025) EllapsedTime: 111.4 seconds RetCode: 0 Status: OK CheckDir: clusterProfiler.Rcheck Warnings: 0