Package: clusterExperiment Version: 2.31.0 Command: /home/biocbuild/bbs-3.23-bioc/R/bin/R CMD build --keep-empty-dirs --no-resave-data clusterExperiment StartedAt: 2025-11-13 16:50:38 -0500 (Thu, 13 Nov 2025) EndedAt: 2025-11-13 16:55:43 -0500 (Thu, 13 Nov 2025) EllapsedTime: 305.3 seconds RetCode: 0 Status: OK PackageFile: clusterExperiment_2.31.0.tar.gz PackageFileSize: 11.92 MiB