Package: clusterExperiment Version: 2.31.0 Command: /Library/Frameworks/R.framework/Resources/bin/R CMD INSTALL clusterExperiment StartedAt: 2025-11-13 15:30:51 -0500 (Thu, 13 Nov 2025) EndedAt: 2025-11-13 15:31:20 -0500 (Thu, 13 Nov 2025) EllapsedTime: 28.9 seconds RetCode: 0 Status: OK