Package: clusterExperiment Version: 2.31.0 Command: /Library/Frameworks/R.framework/Resources/bin/R CMD build --keep-empty-dirs --no-resave-data clusterExperiment StartedAt: 2025-11-13 15:58:31 -0500 (Thu, 13 Nov 2025) EndedAt: 2025-11-13 16:00:30 -0500 (Thu, 13 Nov 2025) EllapsedTime: 118.3 seconds RetCode: 0 Status: OK PackageFile: clusterExperiment_2.31.0.tar.gz PackageFileSize: 11.98 MiB