Package: clusterExperiment Version: 2.31.0 Command: rm -rf clusterExperiment.buildbin-libdir && mkdir clusterExperiment.buildbin-libdir && /Users/biocbuild/BBS/utils/build-universal.sh clusterExperiment_2.31.0.tar.gz /Library/Frameworks/R.framework/Resources/bin/R clusterExperiment.buildbin-libdir StartedAt: 2025-11-13 23:32:07 -0500 (Thu, 13 Nov 2025) EndedAt: 2025-11-13 23:32:37 -0500 (Thu, 13 Nov 2025) EllapsedTime: 29.7 seconds RetCode: 0 Status: OK PackageFile: clusterExperiment_2.31.0.tgz PackageFileSize: 12.97 MiB