Package: clusterExperiment Version: 2.31.0 Maintainer: Elizabeth Purdom MaintainerEmail: epurdom at stat.berkeley.edu git_url: https://git.bioconductor.org/packages/clusterExperiment git_branch: devel git_last_commit: dc97d45 git_last_commit_date: 2025-10-29 10:33:07 -0500 (Wed, 29 Oct 2025)