Package: clustSIGNAL Version: 1.3.0 Command: /home/biocbuild/bbs-3.23-bioc/R/bin/R CMD INSTALL clustSIGNAL StartedAt: 2025-11-13 15:55:32 -0500 (Thu, 13 Nov 2025) EndedAt: 2025-11-13 15:56:03 -0500 (Thu, 13 Nov 2025) EllapsedTime: 31.0 seconds RetCode: 0 Status: OK