Package: clustSIGNAL Version: 1.3.0 Command: /home/biocbuild/bbs-3.23-bioc/R/bin/R CMD check --install=check:clustSIGNAL.install-out.txt --library=/home/biocbuild/bbs-3.23-bioc/R/site-library --timings clustSIGNAL_1.3.0.tar.gz StartedAt: 2025-11-13 22:09:52 -0500 (Thu, 13 Nov 2025) EndedAt: 2025-11-13 22:14:42 -0500 (Thu, 13 Nov 2025) EllapsedTime: 290.5 seconds RetCode: 0 Status: OK CheckDir: clustSIGNAL.Rcheck Warnings: 0