Package: clustSIGNAL Version: 1.3.0 Command: /Library/Frameworks/R.framework/Resources/bin/R CMD check --install=check:clustSIGNAL.install-out.txt --library=/Library/Frameworks/R.framework/Resources/library --no-vignettes --timings clustSIGNAL_1.3.0.tar.gz StartedAt: 2025-11-13 19:08:37 -0500 (Thu, 13 Nov 2025) EndedAt: 2025-11-13 19:10:23 -0500 (Thu, 13 Nov 2025) EllapsedTime: 105.4 seconds RetCode: 0 Status: OK CheckDir: clustSIGNAL.Rcheck Warnings: 0