Package: clustSIGNAL Version: 1.3.0 Command: /Library/Frameworks/R.framework/Resources/bin/R CMD build --keep-empty-dirs --no-resave-data clustSIGNAL StartedAt: 2025-11-13 15:58:59 -0500 (Thu, 13 Nov 2025) EndedAt: 2025-11-13 15:59:35 -0500 (Thu, 13 Nov 2025) EllapsedTime: 36.4 seconds RetCode: 0 Status: OK PackageFile: clustSIGNAL_1.3.0.tar.gz PackageFileSize: 4.58 MiB