Package: clustSIGNAL Version: 1.3.0 Command: rm -rf clustSIGNAL.buildbin-libdir && mkdir clustSIGNAL.buildbin-libdir && /Users/biocbuild/BBS/utils/build-universal.sh clustSIGNAL_1.3.0.tar.gz /Library/Frameworks/R.framework/Resources/bin/R clustSIGNAL.buildbin-libdir StartedAt: 2025-11-13 23:32:15 -0500 (Thu, 13 Nov 2025) EndedAt: 2025-11-13 23:32:31 -0500 (Thu, 13 Nov 2025) EllapsedTime: 15.3 seconds RetCode: 0 Status: OK PackageFile: clustSIGNAL_1.3.0.tgz PackageFileSize: 4.613 MiB