Package: clustComp Version: 1.39.0 Command: /home/biocbuild/bbs-3.23-bioc/R/bin/R CMD INSTALL clustComp StartedAt: 2025-11-13 15:02:15 -0500 (Thu, 13 Nov 2025) EndedAt: 2025-11-13 15:02:23 -0500 (Thu, 13 Nov 2025) EllapsedTime: 7.7 seconds RetCode: 0 Status: OK