Package: clustComp Version: 1.39.0 Command: /home/biocbuild/bbs-3.23-bioc/R/bin/R CMD build --keep-empty-dirs --no-resave-data clustComp StartedAt: 2025-11-13 16:50:37 -0500 (Thu, 13 Nov 2025) EndedAt: 2025-11-13 16:51:37 -0500 (Thu, 13 Nov 2025) EllapsedTime: 60.1 seconds RetCode: 0 Status: OK PackageFile: clustComp_1.39.0.tar.gz PackageFileSize: 931.4 KiB