Package: clustComp Version: 1.39.0 Command: /Library/Frameworks/R.framework/Resources/bin/R CMD build --keep-empty-dirs --no-resave-data clustComp StartedAt: 2025-11-12 16:00:14 -0500 (Wed, 12 Nov 2025) EndedAt: 2025-11-12 16:00:52 -0500 (Wed, 12 Nov 2025) EllapsedTime: 38.5 seconds RetCode: 0 Status: OK PackageFile: clustComp_1.39.0.tar.gz PackageFileSize: 931.3 KiB