Package: clustComp Version: 1.39.0 Command: rm -rf clustComp.buildbin-libdir && mkdir clustComp.buildbin-libdir && /Users/biocbuild/BBS/utils/build-universal.sh clustComp_1.39.0.tar.gz /Library/Frameworks/R.framework/Resources/bin/R clustComp.buildbin-libdir StartedAt: 2025-11-12 20:54:13 -0500 (Wed, 12 Nov 2025) EndedAt: 2025-11-12 20:54:15 -0500 (Wed, 12 Nov 2025) EllapsedTime: 2.0 seconds RetCode: 0 Status: OK PackageFile: clustComp_1.39.0.tgz PackageFileSize: 1019 KiB