Package: clustComp Version: 1.39.0 Maintainer: Aurora Torrente MaintainerEmail: aurora at ebi.ac.uk git_url: https://git.bioconductor.org/packages/clustComp git_branch: devel git_last_commit: 325b7b6 git_last_commit_date: 2025-10-29 10:29:59 -0500 (Wed, 29 Oct 2025)