Package: clstutils Version: 1.59.0 Command: /Library/Frameworks/R.framework/Resources/bin/R CMD INSTALL clstutils StartedAt: 2025-11-12 15:18:39 -0500 (Wed, 12 Nov 2025) EndedAt: 2025-11-12 15:18:56 -0500 (Wed, 12 Nov 2025) EllapsedTime: 17.6 seconds RetCode: 0 Status: OK