Package: clstutils Version: 1.59.0 Command: rm -rf clstutils.buildbin-libdir && mkdir clstutils.buildbin-libdir && /Users/biocbuild/BBS/utils/build-universal.sh clstutils_1.59.0.tar.gz /Library/Frameworks/R.framework/Resources/bin/R clstutils.buildbin-libdir StartedAt: 2025-11-13 23:32:01 -0500 (Thu, 13 Nov 2025) EndedAt: 2025-11-13 23:32:04 -0500 (Thu, 13 Nov 2025) EllapsedTime: 3.0 seconds RetCode: 0 Status: OK PackageFile: clstutils_1.59.0.tgz PackageFileSize: 2.728 MiB