Package: clstutils Version: 1.59.0 Maintainer: Noah Hoffman MaintainerEmail: ngh2 at uw.edu git_url: https://git.bioconductor.org/packages/clstutils git_branch: devel git_last_commit: c01bd65 git_last_commit_date: 2025-10-29 10:06:51 -0500 (Wed, 29 Oct 2025)