Package: clst Version: 1.59.0 Command: /home/biocbuild/bbs-3.23-bioc/R/bin/R CMD build --keep-empty-dirs --no-resave-data clst StartedAt: 2025-11-16 16:51:38 -0500 (Sun, 16 Nov 2025) EndedAt: 2025-11-16 16:51:53 -0500 (Sun, 16 Nov 2025) EllapsedTime: 15.0 seconds RetCode: 0 Status: OK PackageFile: clst_1.59.0.tar.gz PackageFileSize: 1.018 MiB