Package: clst Version: 1.59.0 Command: /Library/Frameworks/R.framework/Resources/bin/R CMD INSTALL clst StartedAt: 2025-11-12 15:18:08 -0500 (Wed, 12 Nov 2025) EndedAt: 2025-11-12 15:18:29 -0500 (Wed, 12 Nov 2025) EllapsedTime: 21.3 seconds RetCode: 0 Status: OK