Package: clst Version: 1.59.0 Maintainer: Noah Hoffman MaintainerEmail: ngh2 at uw.edu git_url: https://git.bioconductor.org/packages/clst git_branch: devel git_last_commit: 6f26ede git_last_commit_date: 2025-10-29 10:06:48 -0500 (Wed, 29 Oct 2025)