Package: cliqueMS Version: 1.25.0 Command: /Library/Frameworks/R.framework/Resources/bin/R CMD INSTALL cliqueMS StartedAt: 2025-11-13 15:24:53 -0500 (Thu, 13 Nov 2025) EndedAt: 2025-11-13 15:25:17 -0500 (Thu, 13 Nov 2025) EllapsedTime: 24.1 seconds RetCode: 0 Status: OK