Package: cliqueMS Version: 1.25.0 Command: /Library/Frameworks/R.framework/Resources/bin/R CMD build --keep-empty-dirs --no-resave-data cliqueMS StartedAt: 2025-11-12 15:59:59 -0500 (Wed, 12 Nov 2025) EndedAt: 2025-11-12 16:00:00 -0500 (Wed, 12 Nov 2025) EllapsedTime: 1.0 seconds RetCode: 1 Status: ERROR PackageFile: None PackageFileSize: NA