Package: cliqueMS Version: 1.25.0 Maintainer: Oriol Senan Campos MaintainerEmail: oriol.senan at praenoscere.com git_url: https://git.bioconductor.org/packages/cliqueMS git_branch: devel git_last_commit: aae47b3 git_last_commit_date: 2025-10-29 11:31:29 -0500 (Wed, 29 Oct 2025)