Package: clipper Version: 1.51.0 Command: /home/biocbuild/bbs-3.23-bioc/R/bin/R CMD INSTALL clipper StartedAt: 2025-11-13 15:44:38 -0500 (Thu, 13 Nov 2025) EndedAt: 2025-11-13 15:45:17 -0500 (Thu, 13 Nov 2025) EllapsedTime: 39.3 seconds RetCode: 0 Status: OK