Package: clipper Version: 1.51.0 Command: /Library/Frameworks/R.framework/Resources/bin/R CMD INSTALL clipper StartedAt: 2025-11-14 15:23:26 -0500 (Fri, 14 Nov 2025) EndedAt: 2025-11-14 15:23:42 -0500 (Fri, 14 Nov 2025) EllapsedTime: 16.5 seconds RetCode: 0 Status: OK