Package: clipper Version: 1.51.0 Command: /Library/Frameworks/R.framework/Resources/bin/R CMD build --keep-empty-dirs --no-resave-data clipper StartedAt: 2025-11-13 15:58:07 -0500 (Thu, 13 Nov 2025) EndedAt: 2025-11-13 15:58:36 -0500 (Thu, 13 Nov 2025) EllapsedTime: 29.4 seconds RetCode: 0 Status: OK PackageFile: clipper_1.51.0.tar.gz PackageFileSize: 1006 KiB