Package: clipper Version: 1.51.0 Maintainer: Paolo Martini MaintainerEmail: paolo.cavei at gmail.com git_url: https://git.bioconductor.org/packages/clipper git_branch: devel git_last_commit: 09e9ef4 git_last_commit_date: 2025-10-29 10:13:24 -0500 (Wed, 29 Oct 2025)