Package: clippda Version: 1.61.0 Command: /Library/Frameworks/R.framework/Resources/bin/R CMD INSTALL clippda StartedAt: 2025-11-23 15:07:21 -0500 (Sun, 23 Nov 2025) EndedAt: 2025-11-23 15:07:25 -0500 (Sun, 23 Nov 2025) EllapsedTime: 3.4 seconds RetCode: 0 Status: OK