Package: clippda Version: 1.61.0 Command: rm -rf clippda.buildbin-libdir && mkdir clippda.buildbin-libdir && /Users/biocbuild/BBS/utils/build-universal.sh clippda_1.61.0.tar.gz /Library/Frameworks/R.framework/Resources/bin/R clippda.buildbin-libdir StartedAt: 2025-11-23 23:29:55 -0500 (Sun, 23 Nov 2025) EndedAt: 2025-11-23 23:30:00 -0500 (Sun, 23 Nov 2025) EllapsedTime: 5.1 seconds RetCode: 0 Status: OK PackageFile: clippda_1.61.0.tgz PackageFileSize: 1.746 MiB