Package: cliProfiler Version: 1.17.0 Command: /Library/Frameworks/R.framework/Resources/bin/R CMD INSTALL cliProfiler StartedAt: 2025-11-12 15:32:38 -0500 (Wed, 12 Nov 2025) EndedAt: 2025-11-12 15:32:52 -0500 (Wed, 12 Nov 2025) EllapsedTime: 14.0 seconds RetCode: 0 Status: OK