Package: cliProfiler Version: 1.17.0 Command: /Library/Frameworks/R.framework/Resources/bin/R CMD check --install=check:cliProfiler.install-out.txt --library=/Library/Frameworks/R.framework/Resources/library --no-vignettes --timings cliProfiler_1.17.0.tar.gz StartedAt: 2025-11-14 19:03:26 -0500 (Fri, 14 Nov 2025) EndedAt: 2025-11-14 19:05:26 -0500 (Fri, 14 Nov 2025) EllapsedTime: 119.5 seconds RetCode: 0 Status: OK CheckDir: cliProfiler.Rcheck Warnings: 0